BEGIN:VCALENDAR
VERSION:2.0
PRODID:icalendar-ruby
CALSCALE:GREGORIAN
METHOD:PUBLISH
BEGIN:VEVENT
DTSTAMP:20260422T015208Z
UID:27-460964@vernonmission.org
DTSTART:20260924T010000Z
DTEND:20260924T023000Z
CLASS:PUBLIC
CREATED:20260421T181922
DESCRIPTION:
LAST-MODIFIED:20260421T181922
LOCATION:1579 Vernon Road\, Vernon\, AZ  85940
SUMMARY:Open Bible Study
URL;VALUE=URI:https://www.vernonmission.org/events/open-bible-study--27/202
 6-09-23
ATTACH;FILENAME=bible_crosses-19.jpg;FMTTYPE=image/jpeg:https://dq5pwpg1q8r
 u0.cloudfront.net/2025/08/21/18/58/59/31b99f77-f3f8-43a8-9423-ea568ce12c26
 /bible_crosses-19.jpg
END:VEVENT
END:VCALENDAR
